BEGIN:VCALENDAR
VERSION:2.0
PRODID:-//City Gate Church - ECPv4.6.24//NONSGML v1.0//EN
CALSCALE:GREGORIAN
METHOD:PUBLISH
X-WR-CALNAME:City Gate Church
X-ORIGINAL-URL:http://citygatechurch.org.uk
X-WR-CALDESC:Events for City Gate Church
BEGIN:VEVENT
DTSTART;TZID=Europe/London:20211205T090000
DTEND;TZID=Europe/London:20211205T140000
DTSTAMP:20260420T172612
CREATED:20211126T104750Z
LAST-MODIFIED:20211126T104750Z
UID:11626-1638694800-1638712800@citygatechurch.org.uk
SUMMARY:Yard Sale @TheDIP
DESCRIPTION:
URL:http://citygatechurch.org.uk/events/yard-sale-thedip/
CATEGORIES:@The-Dip
END:VEVENT
END:VCALENDAR