BEGIN:VCALENDAR
VERSION:2.0
PRODID:-//City Gate Church - ECPv4.6.24//NONSGML v1.0//EN
CALSCALE:GREGORIAN
METHOD:PUBLISH
X-WR-CALNAME:City Gate Church
X-ORIGINAL-URL:http://citygatechurch.org.uk
X-WR-CALDESC:Events for City Gate Church
BEGIN:VEVENT
DTSTART;TZID=Europe/London:20161005T191500
DTEND;TZID=Europe/London:20161005T204500
DTSTAMP:20260420T023203
CREATED:20160630T143410Z
LAST-MODIFIED:20161019T161930Z
UID:1544-1475694900-1475700300@citygatechurch.org.uk
SUMMARY:Varndean College: Stressbusting Technique
DESCRIPTION:\n\n“Find out how to boost your immunity\, optimise your energy levels and improve your resilience to stress.  Em will teach you some mindful Qigong methods (‘chee gung’- energy work) which will leave you feeling refreshed\, more able to relax\, be present and at ease. Simple\, but effective\, these ancient ‘stress-busters’ centre you in your body\, shifting you into a relaxed yet alert state”.  \n\n
URL:http://citygatechurch.org.uk/events/varndean-college/2016-10-05/
LOCATION:@The-Dip\, 119D Hollingdean Terrace\, Brighton\, East Sussex\, BN1 7HB\, United Kingdom.
GEO:50.8419713;-0.1316886
X-APPLE-STRUCTURED-LOCATION;VALUE=URI;X-ADDRESS=@The-Dip 119D Hollingdean Terrace Brighton East Sussex BN1 7HB United Kingdom.;X-APPLE-RADIUS=500;X-TITLE=119D Hollingdean Terrace:geo:-0.1316886,50.8419713
CATEGORIES:@The-Dip
END:VEVENT
END:VCALENDAR