BEGIN:VCALENDAR
VERSION:2.0
PRODID:-//City Gate Church - ECPv4.6.24//NONSGML v1.0//EN
CALSCALE:GREGORIAN
METHOD:PUBLISH
X-WR-CALNAME:City Gate Church
X-ORIGINAL-URL:http://citygatechurch.org.uk
X-WR-CALDESC:Events for City Gate Church
BEGIN:VEVENT
DTSTART;TZID=Europe/London:20160221T090000
DTEND;TZID=Europe/London:20160221T183000
DTSTAMP:20260420T145505
CREATED:20160203T114411Z
LAST-MODIFIED:20160203T115815Z
UID:1044-1456045200-1456079400@citygatechurch.org.uk
SUMMARY:The Art of Hearing God @The Dip
DESCRIPTION:The Art of Hearing God is designed to train students to hear the voice of God\, and develop greater intimacy with Him. The course places great emphasis on growing in godly character and endeavors to teach prophetically gifted people to use the gift to the benefit of their local church and others. \nCourse Schedule: \nFri\, Feb 19  7:30 pm – 9:30 pm \nSat\, Feb 20  9:00 am – 6:00 pm\nSun\, Feb 21 9:00 am – 6:30 pm \n\n\n\n\n\n\n\n\nCost: \nAdult – £70 by Feb 6 / £80 after \n(Includes detailed notebook) \nYouth (18 & under) – £50 by Feb 6 / £60 after \n(Includes detailed notebook) \nAlumni – £35 (Notebook available for purchase if required) \n\nCourse Leader: \nJeannine Rodriguez-Everard \n\n\n\n\n\n\n
URL:http://citygatechurch.org.uk/events/the-art-of-hearing-god-3/
LOCATION:@The-Dip\, 119D Hollingdean Terrace\, Brighton\, East Sussex\, BN1 7HB\, United Kingdom.
GEO:50.8419713;-0.1316886
X-APPLE-STRUCTURED-LOCATION;VALUE=URI;X-ADDRESS=@The-Dip 119D Hollingdean Terrace Brighton East Sussex BN1 7HB United Kingdom.;X-APPLE-RADIUS=500;X-TITLE=119D Hollingdean Terrace:geo:-0.1316886,50.8419713
CATEGORIES:@The-Dip,City Gate Church
END:VEVENT
END:VCALENDAR