BEGIN:VCALENDAR
VERSION:2.0
PRODID:-//City Gate Church - ECPv4.6.24//NONSGML v1.0//EN
CALSCALE:GREGORIAN
METHOD:PUBLISH
X-WR-CALNAME:City Gate Church
X-ORIGINAL-URL:http://citygatechurch.org.uk
X-WR-CALDESC:Events for City Gate Church
BEGIN:VEVENT
DTSTART;TZID=Europe/London:20210927T183000
DTEND;TZID=Europe/London:20210927T190000
DTSTAMP:20260420T195141
CREATED:20210603T135909Z
LAST-MODIFIED:20210917T101342Z
UID:10987-1632767400-1632769200@citygatechurch.org.uk
SUMMARY:Taize
DESCRIPTION:Taize is a monastery in France existing since the 1940s with brothers from Catholic and Protestant traditions\, and some small communities of brothers living amongst the poor in Brazil\, Bangladesh\, Korea\, Senegal\, and Kenya. Their style of worship is contemplative always with a time of silence\, and the beauty of simple four part harmony chants repeated many times. We follow this pattern on Mondays sharing songs\, silence\, readings\, prayers and communion with each other every week. If you want to try something mediational and reflective then do come along! \nDuring September\, Taize services will be held in members gardens and online.  Please contact the office email for further details at office@nullcitygatechurch.org.uk \nWe plan to be back at TheDIP for Taize on Mondays in October 2021\, depending on COVID-19 numbers in Brighton and Hove. \nBlessings\, \nCity Gate Church 
URL:http://citygatechurch.org.uk/events/taize-thedip-2021-09-13-2021-09-27/
LOCATION:online / in local gardens
CATEGORIES:City Gate Church
ATTACH;FMTTYPE=image/jpeg:http://citygatechurch.org.uk/wp-content/uploads/2018/02/Taize-2.jpg
END:VEVENT
END:VCALENDAR