BEGIN:VCALENDAR
VERSION:2.0
PRODID:-//City Gate Church - ECPv4.6.24//NONSGML v1.0//EN
CALSCALE:GREGORIAN
METHOD:PUBLISH
X-WR-CALNAME:City Gate Church
X-ORIGINAL-URL:http://citygatechurch.org.uk
X-WR-CALDESC:Events for City Gate Church
BEGIN:VEVENT
DTSTART;TZID=Europe/London:20160328T183000
DTEND;TZID=Europe/London:20160328T190000
DTSTAMP:20260420T115709
CREATED:20160126T171924Z
LAST-MODIFIED:20160322T123917Z
UID:1191-1459189800-1459191600@citygatechurch.org.uk
SUMMARY:BANK HOLIDAY: NO Taize @The Dip
DESCRIPTION:
URL:http://citygatechurch.org.uk/events/taize-the-dip-2016-03-28/
LOCATION:@The-Dip\, 119D Hollingdean Terrace\, Brighton\, East Sussex\, BN1 7HB\, United Kingdom.
GEO:50.8419713;-0.1316886
X-APPLE-STRUCTURED-LOCATION;VALUE=URI;X-ADDRESS=@The-Dip 119D Hollingdean Terrace Brighton East Sussex BN1 7HB United Kingdom.;X-APPLE-RADIUS=500;X-TITLE=119D Hollingdean Terrace:geo:-0.1316886,50.8419713
CATEGORIES:@The-Dip,City Gate Church
ATTACH;FMTTYPE=image/jpeg:http://citygatechurch.org.uk/wp-content/uploads/2015/08/Mission-Groups_@TheDip_2_.jpg
END:VEVENT
END:VCALENDAR