BEGIN:VCALENDAR
VERSION:2.0
PRODID:-//City Gate Church - ECPv4.6.24//NONSGML v1.0//EN
CALSCALE:GREGORIAN
METHOD:PUBLISH
X-WR-CALNAME:City Gate Church
X-ORIGINAL-URL:http://citygatechurch.org.uk
X-WR-CALDESC:Events for City Gate Church
BEGIN:VEVENT
DTSTART;TZID=Europe/London:20211031T100000
DTEND;TZID=Europe/London:20211031T110000
DTSTAMP:20260420T195011
CREATED:20211026T134710Z
LAST-MODIFIED:20211028T125433Z
UID:11585-1635674400-1635678000@citygatechurch.org.uk
SUMMARY:Taize Communion Service
DESCRIPTION:This Sunday 31st October we will be gathering in a smaller setting at The DIP (119D Hollingdean Terrace\, Brighton BN1 7HB)\, holding a Taize Communion Service\, to share songs\, silence\, readings\, prayers and communion with each other. If you want to try something mediational and reflective then do come along! \nTaize is a monastery in France existing since the 1940s with brothers from Catholic and Protestant traditions\, and some small communities of brothers living amongst the poor in Brazil\, Bangladesh\, Korea\, Senegal\, and Kenya. Their style of worship is contemplative always with a time of silence\, and the beauty of simple four part harmony chants repeated many times. \nMasks are no longer required at in-person meetings\, however\, you are welcome to wear a mask if you prefer. Seats will be facing forwards in one direction with windows open for ventilation.  We ask that you be mindful of others and consider taking a lateral flow test before arriving. \n“Praying” by Mary Oliver (From Thirst: poems\, 2007) \nIt doesn’t have to be\nthe blue iris\, it could be\nweeds in a vacant lot\, or a few\nsmall stones; just\npay attention\, then patch \na few words together and don’t try\nto make them elaborate\, this isn’t\na contest but the doorway \ninto thanks\, and a silence in which\nanother voice may speak. \n  
URL:http://citygatechurch.org.uk/events/taize-communion-service-2/
CATEGORIES:@The-Dip,City Gate Church
ATTACH;FMTTYPE=image/jpeg:http://citygatechurch.org.uk/wp-content/uploads/2018/02/Taize-2.jpg
END:VEVENT
END:VCALENDAR