BEGIN:VCALENDAR
VERSION:2.0
PRODID:-//City Gate Church - ECPv4.6.24//NONSGML v1.0//EN
CALSCALE:GREGORIAN
METHOD:PUBLISH
X-WR-CALNAME:City Gate Church
X-ORIGINAL-URL:http://citygatechurch.org.uk
X-WR-CALDESC:Events for City Gate Church
BEGIN:VEVENT
DTSTART;TZID=Europe/London:20210912T100000
DTEND;TZID=Europe/London:20210912T110000
DTSTAMP:20260420T224707
CREATED:20210603T131002Z
LAST-MODIFIED:20210910T142622Z
UID:10346-1631440800-1631444400@citygatechurch.org.uk
SUMMARY:Sunday Morning Meeting @Brighthelm
DESCRIPTION:This Sunday we are meeting together in person outside\, in the garden gated area at Brighthelm Community Centre on North Road at our new time of 10am\,  followed by tea and coffee in the cafe. Gwyn will be sharing on Psalm 104:24 \nHow many are your works\, Lord!\n    In wisdom you made them all;\n    the earth is full of your creatures. \n  \nOur meetings have a relaxed feel with a time of worship\, prayer\, and teaching\, and currently last around 1 hour. \nWe are now in Step 4 of government guidelines for Covid-19\, therefore we do not require you to sign up to attend our regular meetings – you are welcome to just turn up on Sundays.  This week\, you do not need to wear a mask as we are outside\, but we recommend wearing masks indoors\, as you move through the Brighthelm building and to be mindful of social distancing. \nBrighton Marathon Road Closures \nSunday 12th September \nThis Sunday is also the Brighton marathon\, so please be aware that getting in to church may involve some detours! \nThe roads in and around Brighthelm (Zone 2) will be closed between 05.30 -12.00\, so the best route to drive in may be coming down Dyke Road and accessing Brighthelm\, past Brighton Station down Queen’s Road. \nFor further information go to: https://www.sussexlive.co.uk/news/sussex-news/brighton-marathon-2021-roads-closed-5808682 \n \n  \nPlease stay at home if you are showing signs of high temperature\, persistent cough\, loss of smell or taste. \n  \nIf technology allows\, we are hoping to stream live on YouTube this Sunday.  Please click on the link below to follow us this weekend and join in remotely\, if you can’t make it in person! \nOur City Gate Church YouTube channel to subscribe to is: https://www.youtube.com/channel/UCxEL2Gu4RQdEge764LUiwvg \n  \nWe look forward to having you join us! 
URL:http://citygatechurch.org.uk/events/sunday-morning-meeting-brighthelm/
LOCATION:The Brighthelm Centre\, North Road\, Brighton\, East Sussex\, BN1 1YD\, United Kingdom.
GEO:50.8258988;-0.1406705
X-APPLE-STRUCTURED-LOCATION;VALUE=URI;X-ADDRESS=The Brighthelm Centre North Road Brighton East Sussex BN1 1YD United Kingdom.;X-APPLE-RADIUS=500;X-TITLE=North Road:geo:-0.1406705,50.8258988
CATEGORIES:City Gate Church
ATTACH;FMTTYPE=image/jpeg:http://citygatechurch.org.uk/wp-content/uploads/2021/06/Gated-Garden-Brighthelm.jpg
END:VEVENT
END:VCALENDAR