BEGIN:VCALENDAR
VERSION:2.0
PRODID:-//City Gate Church - ECPv4.6.24//NONSGML v1.0//EN
CALSCALE:GREGORIAN
METHOD:PUBLISH
X-WR-CALNAME:City Gate Church
X-ORIGINAL-URL:http://citygatechurch.org.uk
X-WR-CALDESC:Events for City Gate Church
BEGIN:VEVENT
DTSTART;TZID=Europe/London:20191208T103000
DTEND;TZID=Europe/London:20191208T130000
DTSTAMP:20260419T201749
CREATED:20180921T125403Z
LAST-MODIFIED:20191206T152230Z
UID:6240-1575801000-1575810000@citygatechurch.org.uk
SUMMARY:ADVENT Sunday
DESCRIPTION:This Sunday 8th December is our advent service and we will be making Christmas wreaths.  The focus will be on welcoming Jesus into our hearts\, our homes and our communities. \nIt would be a great meeting to invite friends and neighbours to – who doesn’t like making a wreath?! \nWe will bring the bases.  \nIf possible\, please can you bring: \n\nSharp kitchen scissors or garden secateurs\nAny greenery you can find – bay\, rosemary\, holly\, ivy\nBerries or pine cones you fancy adding\nA contribution to the cost – £5  – no worries if not!\n\nIf you want to look at some examples check out: \nhttps://www.youtube.com/watch?v=WmhKk8jmb24 \nWe look forward to seeing you there! \nBlessings\, \nCity Gate Church \n  \n…………………………….. \n  \nWe meet together on most* Sundays at Brighthelm Community Centre on North Road at 10.30am (except the first Sunday of the month).  Our meetings have a relaxed feel starting with drinks and then moving into a time of worship\, prayer\, and teaching. Our meetings last around two hours.  We have a group for the children and youth.  We look forward to having you join us! \nIf you have any questions or would like further details about our Sunday meetings\, please email the City Gate office at office@nullcitygatechurch.org.uk \n*On the first Sunday of every month\, we divide into Mission Groups to bless our city\, & instead we hold Messy Church in Lyminster Avenue at ‘Footsteps Nursery’ (4-6pm). On these Sundays City Gate Church does not meet altogether at 10.30am. If you would like to find out more about the first Sunday of the month\, please go to our calendar events and Mission Groups page. 
URL:http://citygatechurch.org.uk/events/sunday-morning-meeting-4-2019-12-08/
LOCATION:The Brighthelm Centre\, North Road\, Brighton\, East Sussex\, BN1 1YD\, United Kingdom.
GEO:50.8258988;-0.1406705
X-APPLE-STRUCTURED-LOCATION;VALUE=URI;X-ADDRESS=The Brighthelm Centre North Road Brighton East Sussex BN1 1YD United Kingdom.;X-APPLE-RADIUS=500;X-TITLE=North Road:geo:-0.1406705,50.8258988
CATEGORIES:City Gate Church
ATTACH;FMTTYPE=image/jpeg:http://citygatechurch.org.uk/wp-content/uploads/2018/09/original_luxury-christmas-wreath.jpg
ORGANIZER;CN="City%20Gate%20Church":MAILTO:office@citygatechurch.org.uk
END:VEVENT
END:VCALENDAR