BEGIN:VCALENDAR
VERSION:2.0
PRODID:-//City Gate Church - ECPv4.6.24//NONSGML v1.0//EN
CALSCALE:GREGORIAN
METHOD:PUBLISH
X-WR-CALNAME:City Gate Church
X-ORIGINAL-URL:http://citygatechurch.org.uk
X-WR-CALDESC:Events for City Gate Church
BEGIN:VEVENT
DTSTART;TZID=Europe/London:20200308T103000
DTEND;TZID=Europe/London:20200308T130000
DTSTAMP:20260420T011125
CREATED:20180116T170042Z
LAST-MODIFIED:20200306T142345Z
UID:7882-1583663400-1583672400@citygatechurch.org.uk
SUMMARY:Visiting Speaker: Rasika Jayaranthne
DESCRIPTION:This Sunday 8th March we have visiting speaker Rasika Jayaranthne from Kandy\, Sri Lanka coming to share with us at City Gate.  He is part of the Pioneer Asia team. He draws pastors from across Kandy to work together for the kingdom. The Pioneer team that went to Kandy last December met with leaders from around Kandy at his home\, where he is promoting unity across Kandy and the region. \n  \n………………………….. \n  \nWe meet together on most* Sundays at Brighthelm Community Centre on North Road at 10.30am (except the first Sunday of the month).  Our meetings have a relaxed feel starting with drinks and then moving into a time of worship\, prayer\, and teaching. Our meetings last around two hours.  We have a group for the children and youth.  We look forward to having you join us! \nIf you have any questions or would like further details about our Sunday meetings\, please email the City Gate office at office@nullcitygatechurch.org.uk \n*On the first Sunday of every month\, we divide into Mission Groups to bless our city\, & instead we hold Messy Church in Hollingbury at ‘Old Boat Corner Community Centre’ (4-6pm). On these Sundays City Gate Church does not meet altogether at 10.30am. If you would like to find out more about the first Sunday of the month\, please go to our calendar events and Mission Groups page. 
URL:http://citygatechurch.org.uk/events/sunday-morning-meeting-3-2020-03-08/
LOCATION:The Brighthelm Centre\, North Road\, Brighton\, East Sussex\, BN1 1YD\, United Kingdom.
GEO:50.8258988;-0.1406705
X-APPLE-STRUCTURED-LOCATION;VALUE=URI;X-ADDRESS=The Brighthelm Centre North Road Brighton East Sussex BN1 1YD United Kingdom.;X-APPLE-RADIUS=500;X-TITLE=North Road:geo:-0.1406705,50.8258988
CATEGORIES:City Gate Church
ATTACH;FMTTYPE=image/jpeg:http://citygatechurch.org.uk/wp-content/uploads/2018/01/Rasika.jpg
END:VEVENT
END:VCALENDAR