BEGIN:VCALENDAR
VERSION:2.0
PRODID:-//City Gate Church - ECPv4.6.24//NONSGML v1.0//EN
CALSCALE:GREGORIAN
METHOD:PUBLISH
X-WR-CALNAME:City Gate Church
X-ORIGINAL-URL:http://citygatechurch.org.uk
X-WR-CALDESC:Events for City Gate Church
BEGIN:VEVENT
DTSTART;TZID=Europe/London:20170618T103000
DTEND;TZID=Europe/London:20170618T130000
DTSTAMP:20260419T151932
CREATED:20170328T115918Z
LAST-MODIFIED:20170328T125727Z
UID:2444-1497781800-1497790800@citygatechurch.org.uk
SUMMARY:Church Weekend Away
DESCRIPTION:  \nThis Sunday is our annual Church Weekend Away at Dalesdown\, which means our Sunday service will not be at Brighthlem this morning.  Instead we will be coming together to worship and pray in the Sussex Downs. For more information\, please contact the City Gate office at office@nullcitygatechurch.org.uk \nWe will be back at Brighthelm next Sunday at 10.30am! 
URL:http://citygatechurch.org.uk/events/sunday-morning-meeting-2017-06-18/
LOCATION:The Brighthelm Centre\, North Road\, Brighton\, East Sussex\, BN1 1YD\, United Kingdom.
GEO:50.8258988;-0.1406705
X-APPLE-STRUCTURED-LOCATION;VALUE=URI;X-ADDRESS=The Brighthelm Centre North Road Brighton East Sussex BN1 1YD United Kingdom.;X-APPLE-RADIUS=500;X-TITLE=North Road:geo:-0.1406705,50.8258988
CATEGORIES:City Gate Church
END:VEVENT
END:VCALENDAR