BEGIN:VCALENDAR
VERSION:2.0
PRODID:-//City Gate Church - ECPv4.6.24//NONSGML v1.0//EN
CALSCALE:GREGORIAN
METHOD:PUBLISH
X-WR-CALNAME:City Gate Church
X-ORIGINAL-URL:http://citygatechurch.org.uk
X-WR-CALDESC:Events for City Gate Church
BEGIN:VEVENT
DTSTART;TZID=Europe/London:20181216T103000
DTEND;TZID=Europe/London:20181216T130000
DTSTAMP:20260419T121727
CREATED:20180111T144143Z
LAST-MODIFIED:20180111T145118Z
UID:3590-1544956200-1544965200@citygatechurch.org.uk
SUMMARY:Christmas Celebration
DESCRIPTION:Today\, 3.30-5.00pm  we will be celebrating the birth of Christ\, with carols\, readings\, Children’s activities and Christmas reflections.  Our service is welcome to all ages and there will be refreshments following in the Brighthelm Cafe. \nWe look forward to seeing you there… \nMERRY CHRISTMAS! 
URL:http://citygatechurch.org.uk/events/sunday-morning-meeting-2-2018-12-16/
CATEGORIES:City Gate Church
ATTACH;FMTTYPE=image/jpeg:http://citygatechurch.org.uk/wp-content/uploads/2015/08/Mission-Groups_@TheDip_2_.jpg
END:VEVENT
END:VCALENDAR