BEGIN:VCALENDAR
VERSION:2.0
PRODID:-//City Gate Church - ECPv4.6.24//NONSGML v1.0//EN
CALSCALE:GREGORIAN
METHOD:PUBLISH
X-WR-CALNAME:City Gate Church
X-ORIGINAL-URL:http://citygatechurch.org.uk
X-WR-CALDESC:Events for City Gate Church
BEGIN:VEVENT
DTSTART;TZID=Europe/London:20160821T103000
DTEND;TZID=Europe/London:20160821T130000
DTSTAMP:20260420T071422
CREATED:20160126T130945Z
LAST-MODIFIED:20160720T162135Z
UID:858-1471775400-1471784400@citygatechurch.org.uk
SUMMARY:Altogether Meeting: Communion Service
DESCRIPTION:We meet together on most Sundays at Brighthelm Community Centre on North Road at 10.30am.  Our meetings have a relaxed feel starting with drinks and then moving into a time of worship\, prayer\, and teaching. Most of our meetings last around two hours. \nDuring the month of August we meet ‘Altogether’ for our Sunday meetings. \nToday we will be holding a Communion Service in the auditorium at Brighthelm. \nAll welcome 🙂 \n  
URL:http://citygatechurch.org.uk/events/sunday-meeting-2016-08-07-2016-08-21/
LOCATION:The Brighthelm Centre\, North Road\, Brighton\, East Sussex\, BN1 1YD\, United Kingdom.
GEO:50.8258988;-0.1406705
X-APPLE-STRUCTURED-LOCATION;VALUE=URI;X-ADDRESS=The Brighthelm Centre North Road Brighton East Sussex BN1 1YD United Kingdom.;X-APPLE-RADIUS=500;X-TITLE=North Road:geo:-0.1406705,50.8258988
CATEGORIES:City Gate Church
END:VEVENT
END:VCALENDAR