BEGIN:VCALENDAR
VERSION:2.0
PRODID:-//City Gate Church - ECPv4.6.24//NONSGML v1.0//EN
CALSCALE:GREGORIAN
METHOD:PUBLISH
X-WR-CALNAME:City Gate Church
X-ORIGINAL-URL:http://citygatechurch.org.uk
X-WR-CALDESC:Events for City Gate Church
BEGIN:VEVENT
DTSTART;TZID=Europe/London:20160814T120000
DTEND;TZID=Europe/London:20160814T143000
DTSTAMP:20260420T085929
CREATED:20160126T130945Z
LAST-MODIFIED:20160720T161329Z
UID:857-1471176000-1471185000@citygatechurch.org.uk
SUMMARY:Picnic & Games @Preston Park!
DESCRIPTION:In August we go ‘off timetable’ as many of our fellowship take holidays.  This means we won’t be meeting at our normal time of 10.30am at Brighthelm Community Centre.  However\, there is an alternative gathering! \nToday we will be meeting in Preston Park at 12.00 by the boules pitch (next to the tennis courts). \nWe are gathering for a lunchtime picnic (bring your own) and games (bring Frisbees/ balls/ boules etc.)… Our Hollingdean Mission group will be hosting. \nCome ready to have FUN in the SUN! 🙂 \n  \nCity Gate Church \n  
URL:http://citygatechurch.org.uk/events/sunday-meeting-2016-08-07-2016-08-14/
LOCATION:The Brighthelm Centre\, North Road\, Brighton\, East Sussex\, BN1 1YD\, United Kingdom.
GEO:50.8258988;-0.1406705
X-APPLE-STRUCTURED-LOCATION;VALUE=URI;X-ADDRESS=The Brighthelm Centre North Road Brighton East Sussex BN1 1YD United Kingdom.;X-APPLE-RADIUS=500;X-TITLE=North Road:geo:-0.1406705,50.8258988
CATEGORIES:City Gate Church
END:VEVENT
END:VCALENDAR