BEGIN:VCALENDAR
VERSION:2.0
PRODID:-//City Gate Church - ECPv4.6.24//NONSGML v1.0//EN
CALSCALE:GREGORIAN
METHOD:PUBLISH
X-WR-CALNAME:City Gate Church
X-ORIGINAL-URL:http://citygatechurch.org.uk
X-WR-CALDESC:Events for City Gate Church
BEGIN:VEVENT
DTSTART;TZID=Europe/London:20160327T103000
DTEND;TZID=Europe/London:20160327T150000
DTSTAMP:20260420T133047
CREATED:20160126T130938Z
LAST-MODIFIED:20160322T163631Z
UID:837-1459074600-1459090800@citygatechurch.org.uk
SUMMARY:Easter Festival & Passover Meal
DESCRIPTION:We meet together on most Sundays at Brighthelm Community Centre on North Road at 10.30am.  Our meetings have a relaxed feel starting with drinks and then moving into a time of worship\, prayer\, and teaching. Most of our meetings last around two hours. \nToday we are celebrating Easter ‘Altogether’! \nAll welcome. \nAfter our service\, we will  be serving a Passover meal of roasted lamb\, vegetables and flat bread. this will be in the Brighthelm Gardens/Café\, between 1-3pm. \n£5 per adult \n£2 per child 
URL:http://citygatechurch.org.uk/events/sunday-meeting-2016-03-27/
LOCATION:The Brighthelm Centre\, North Road\, Brighton\, East Sussex\, BN1 1YD\, United Kingdom.
GEO:50.8258988;-0.1406705
X-APPLE-STRUCTURED-LOCATION;VALUE=URI;X-ADDRESS=The Brighthelm Centre North Road Brighton East Sussex BN1 1YD United Kingdom.;X-APPLE-RADIUS=500;X-TITLE=North Road:geo:-0.1406705,50.8258988
CATEGORIES:City Gate Church
END:VEVENT
END:VCALENDAR