BEGIN:VCALENDAR
VERSION:2.0
PRODID:-//City Gate Church - ECPv4.6.24//NONSGML v1.0//EN
CALSCALE:GREGORIAN
METHOD:PUBLISH
X-WR-CALNAME:City Gate Church
X-ORIGINAL-URL:http://citygatechurch.org.uk
X-WR-CALDESC:Events for City Gate Church
BEGIN:VEVENT
DTSTART;TZID=Europe/London:20160807T103000
DTEND;TZID=Europe/London:20160807T130000
DTSTAMP:20260420T071452
CREATED:20160126T130936Z
LAST-MODIFIED:20160720T160120Z
UID:927-1470565800-1470574800@citygatechurch.org.uk
SUMMARY:Sunday Meeting TBC: 'Off timetable' in August
DESCRIPTION:In August we go ‘off timetable’ as many of our fellowship take holidays.  This means we won’t be meeting at our normal time of 10.30am at Brighthelm Community Centre.  However\, there will be an alternative gathering. This is yet to be confirmed\, and will be updated shortly. \nCity Gate Church \n  
URL:http://citygatechurch.org.uk/events/sunday-meeting-2016-02-14-2016-08-07/
LOCATION:The Brighthelm Centre\, North Road\, Brighton\, East Sussex\, BN1 1YD\, United Kingdom.
GEO:50.8258988;-0.1406705
X-APPLE-STRUCTURED-LOCATION;VALUE=URI;X-ADDRESS=The Brighthelm Centre North Road Brighton East Sussex BN1 1YD United Kingdom.;X-APPLE-RADIUS=500;X-TITLE=North Road:geo:-0.1406705,50.8258988
CATEGORIES:City Gate Church
END:VEVENT
END:VCALENDAR