BEGIN:VCALENDAR
VERSION:2.0
PRODID:-//City Gate Church - ECPv4.6.24//NONSGML v1.0//EN
CALSCALE:GREGORIAN
METHOD:PUBLISH
X-WR-CALNAME:City Gate Church
X-ORIGINAL-URL:http://citygatechurch.org.uk
X-WR-CALDESC:Events for City Gate Church
BEGIN:VEVENT
DTSTART;TZID=Europe/London:20161225T103000
DTEND;TZID=Europe/London:20161225T130000
DTSTAMP:20260419T233129
CREATED:20160126T153444Z
LAST-MODIFIED:20160126T161229Z
UID:906-1482661800-1482670800@citygatechurch.org.uk
SUMMARY:... Merry Christmas!
DESCRIPTION:There will be no service today\, however City Gate Church warmly wishes you a Merry Christmas and a Happy New Year. \nEnjoy celebrating this special day with friends and family. \nOur next meeting is Sunday 8th January at 10.30am. \nWe look forward to seeing you in 2017! 
URL:http://citygatechurch.org.uk/events/sunday-meeting-2-2016-12-25/
CATEGORIES:City Gate Church
END:VEVENT
END:VCALENDAR