BEGIN:VCALENDAR
VERSION:2.0
PRODID:-//City Gate Church - ECPv4.6.24//NONSGML v1.0//EN
CALSCALE:GREGORIAN
METHOD:PUBLISH
X-WR-CALNAME:City Gate Church
X-ORIGINAL-URL:http://citygatechurch.org.uk
X-WR-CALDESC:Events for City Gate Church
BEGIN:VEVENT
DTSTART;TZID=Europe/London:20161218T153000
DTEND;TZID=Europe/London:20161218T170000
DTSTAMP:20260420T023047
CREATED:20160126T153444Z
LAST-MODIFIED:20161208T172340Z
UID:905-1482075000-1482080400@citygatechurch.org.uk
SUMMARY:Christmas Celebration
DESCRIPTION:Today\, 3.30-5.00pm  we will be celebrating the birth of Christ\, with carols\, readings\, Children’s activities and Christmas reflections.  Our service is welcome to all ages and there will be refreshments following in the Brighthelm Cafe. \n  \nWe look forward to seeing you there… \nMERRY CHRISTMAS! 
URL:http://citygatechurch.org.uk/events/sunday-meeting-2-2016-12-18/
LOCATION:The Brighthelm Centre\, North Road\, Brighton\, East Sussex\, BN1 1YD\, United Kingdom.
GEO:50.8258988;-0.1406705
X-APPLE-STRUCTURED-LOCATION;VALUE=URI;X-ADDRESS=The Brighthelm Centre North Road Brighton East Sussex BN1 1YD United Kingdom.;X-APPLE-RADIUS=500;X-TITLE=North Road:geo:-0.1406705,50.8258988
CATEGORIES:City Gate Church
ATTACH;FMTTYPE=image/jpeg:http://citygatechurch.org.uk/wp-content/uploads/2016/01/Christmas-Celebration16-version.jpg
END:VEVENT
END:VCALENDAR