BEGIN:VCALENDAR
VERSION:2.0
PRODID:-//City Gate Church - ECPv4.6.24//NONSGML v1.0//EN
CALSCALE:GREGORIAN
METHOD:PUBLISH
X-WR-CALNAME:City Gate Church
X-ORIGINAL-URL:http://citygatechurch.org.uk
X-WR-CALDESC:Events for City Gate Church
BEGIN:VEVENT
DTSTART;TZID=Europe/London:20161009T103000
DTEND;TZID=Europe/London:20161009T130000
DTSTAMP:20260420T041603
CREATED:20160126T153444Z
LAST-MODIFIED:20160126T171104Z
UID:895-1476009000-1476018000@citygatechurch.org.uk
SUMMARY:Family Praise
DESCRIPTION:We meet together on most Sundays at Brighthelm Community Centre on North Road at 10.30am.  Our meetings have a relaxed feel starting with drinks and then moving into a time of worship\, prayer\, and teaching. Most of our meetings last around two hours. \nFamily Praise is a meeting for all the family. \nCome and join us for communion today. 
URL:http://citygatechurch.org.uk/events/sunday-meeting-2-2016-10-09/
LOCATION:The Brighthelm Centre\, North Road\, Brighton\, East Sussex\, BN1 1YD\, United Kingdom.
GEO:50.8258988;-0.1406705
X-APPLE-STRUCTURED-LOCATION;VALUE=URI;X-ADDRESS=The Brighthelm Centre North Road Brighton East Sussex BN1 1YD United Kingdom.;X-APPLE-RADIUS=500;X-TITLE=North Road:geo:-0.1406705,50.8258988
CATEGORIES:City Gate Church
END:VEVENT
END:VCALENDAR