BEGIN:VCALENDAR
VERSION:2.0
PRODID:-//City Gate Church - ECPv4.6.24//NONSGML v1.0//EN
CALSCALE:GREGORIAN
METHOD:PUBLISH
X-WR-CALNAME:City Gate Church
X-ORIGINAL-URL:http://citygatechurch.org.uk
X-WR-CALDESC:Events for City Gate Church
BEGIN:VEVENT
DTSTART;TZID=Europe/London:20210926T100000
DTEND;TZID=Europe/London:20210926T110000
DTSTAMP:20260420T211622
CREATED:20210914T113732Z
LAST-MODIFIED:20210924T130624Z
UID:11300-1632650400-1632654000@citygatechurch.org.uk
SUMMARY:Sunday Morning Meeting & Communion
DESCRIPTION:This Sunday we are meeting together in person outside\, in the garden gated area at Brighthelm Community Centre on North Road at our new time of 10am. \nAndy Au will be sharing on the “Well of Love” from 1 Corinthians 13: \n \nThere is a conference taking place at Brighthelm this Sunday\, so we do not have access to the café for teas and coffees after.  Please bring your own flask on Sunday\, as we gather in the gardens.  If it’s raining\, we will be up on the 4th floor in the Roof Room! Let’s pray for sunshine and blue skies. Please be aware the car park may be more full than normal\, so we encourage car sharing this Sunday and alternative transport in to the centre. \nOur meetings have a relaxed feel with a time of worship\, prayer\, and teaching\, and currently last around 1 hour. \nWe are now in Step 4 of government guidelines for Covid-19\, therefore we do not require you to sign up to attend our regular meetings – you are welcome to just turn up on Sundays.  This week\, you do not need to wear a mask as we are outside\, but we recommend wearing masks if we head indoors\, and as you move through the Brighthelm building and to be mindful of social distancing. \nPlease stay at home if you are showing signs of high temperature\, persistent cough\, loss of smell or taste. \n  \nWe will be streaming live on YouTube this Sunday.  Please click on the link below to follow us this weekend and join in remotely\, if you can’t make it in person! \nOur City Gate Church YouTube channel to subscribe to is: https://www.youtube.com/channel/UCxEL2Gu4RQdEge764LUiwvg \n  \nWe look forward to having you join us! 
URL:http://citygatechurch.org.uk/events/sunday-holy-communion/
LOCATION:The Brighthelm Centre\, North Road\, Brighton\, East Sussex\, BN1 1YD\, United Kingdom.
GEO:50.8258988;-0.1406705
X-APPLE-STRUCTURED-LOCATION;VALUE=URI;X-ADDRESS=The Brighthelm Centre North Road Brighton East Sussex BN1 1YD United Kingdom.;X-APPLE-RADIUS=500;X-TITLE=North Road:geo:-0.1406705,50.8258988
CATEGORIES:City Gate Church
ATTACH;FMTTYPE=image/jpeg:http://citygatechurch.org.uk/wp-content/uploads/2021/06/Gated-Garden-Brighthelm.jpg
END:VEVENT
END:VCALENDAR