BEGIN:VCALENDAR
VERSION:2.0
PRODID:-//City Gate Church - ECPv4.6.24//NONSGML v1.0//EN
CALSCALE:GREGORIAN
METHOD:PUBLISH
X-WR-CALNAME:City Gate Church
X-ORIGINAL-URL:http://citygatechurch.org.uk
X-WR-CALDESC:Events for City Gate Church
BEGIN:VEVENT
DTSTART;TZID=Europe/London:20161008T190000
DTEND;TZID=Europe/London:20161008T230000
DTSTAMP:20260420T040112
CREATED:20160126T161801Z
LAST-MODIFIED:20160126T170337Z
UID:911-1475953200-1475967600@citygatechurch.org.uk
SUMMARY:...Stepping Beyond! (Extended)
DESCRIPTION:Come and join us for …Stepping Beyond Worship night at Brighthelm next Saturday. There will be a variety of musical friends joining us. We will be continuing to explore worshipping our God with creativity\, music\, percussion\, colour\, movement and art. All are welcome\, please come ready to worship! 
URL:http://citygatechurch.org.uk/events/stepping-beyond-extended/
LOCATION:The Brighthelm Centre\, North Road\, Brighton\, East Sussex\, BN1 1YD\, United Kingdom.
GEO:50.8258988;-0.1406705
X-APPLE-STRUCTURED-LOCATION;VALUE=URI;X-ADDRESS=The Brighthelm Centre North Road Brighton East Sussex BN1 1YD United Kingdom.;X-APPLE-RADIUS=500;X-TITLE=North Road:geo:-0.1406705,50.8258988
CATEGORIES:City Gate Church
ATTACH;FMTTYPE=image/jpeg:http://citygatechurch.org.uk/wp-content/uploads/2015/07/Stepping-Beyond-Oct15.jpg
END:VEVENT
END:VCALENDAR