BEGIN:VCALENDAR
VERSION:2.0
PRODID:-//City Gate Church - ECPv4.6.24//NONSGML v1.0//EN
CALSCALE:GREGORIAN
METHOD:PUBLISH
X-WR-CALNAME:City Gate Church
X-ORIGINAL-URL:http://citygatechurch.org.uk
X-WR-CALDESC:Events for City Gate Church
BEGIN:VEVENT
DTSTART;TZID=Europe/London:20220112T090000
DTEND;TZID=Europe/London:20220112T120000
DTSTAMP:20260419T195534
CREATED:20211215T112332Z
LAST-MODIFIED:20220104T122044Z
UID:11635-1641978000-1641988800@citygatechurch.org.uk
SUMMARY:Smart Meter Installation
DESCRIPTION:
URL:http://citygatechurch.org.uk/events/smart-meter-installation/
CATEGORIES:@The-Dip
END:VEVENT
END:VCALENDAR