BEGIN:VCALENDAR
VERSION:2.0
PRODID:-//City Gate Church - ECPv4.6.24//NONSGML v1.0//EN
CALSCALE:GREGORIAN
METHOD:PUBLISH
X-WR-CALNAME:City Gate Church
X-ORIGINAL-URL:http://citygatechurch.org.uk
X-WR-CALDESC:Events for City Gate Church
BEGIN:VEVENT
DTSTART;TZID=Europe/London:20200506T200000
DTEND;TZID=Europe/London:20200506T213000
DTSTAMP:20260419T121259
CREATED:20190904T131018Z
LAST-MODIFIED:20200424T104643Z
UID:7083-1588795200-1588800600@citygatechurch.org.uk
SUMMARY:Cancelled: PUSH Prayer @TheDIP
DESCRIPTION:PUSH prayer\n“Rejoice always\, pray without ceasing\, give thanks in all circumstances; for this is the will of God in Christ Jesus for you.” – 1 Thessalonians 5:16-18 \nA gathering to seek God\, to listen to him and enquire of him\, to stir up the prophetic specifically for the church but also in any other areas he may lead us (the city\, the nations etc.). A time to persevere! \nTime and location: Select Wednesdays (every three months\, check calendar) at 20:00 @the Dip. 
URL:http://citygatechurch.org.uk/events/push-prayer-thedip-2020-05-06/
LOCATION:@The-Dip\, 119D Hollingdean Terrace\, Brighton\, East Sussex\, BN1 7HB\, United Kingdom.
GEO:50.8419713;-0.1316886
X-APPLE-STRUCTURED-LOCATION;VALUE=URI;X-ADDRESS=@The-Dip 119D Hollingdean Terrace Brighton East Sussex BN1 7HB United Kingdom.;X-APPLE-RADIUS=500;X-TITLE=119D Hollingdean Terrace:geo:-0.1316886,50.8419713
CATEGORIES:@The-Dip,City Gate Church
END:VEVENT
END:VCALENDAR