BEGIN:VCALENDAR
VERSION:2.0
PRODID:-//City Gate Church - ECPv4.6.24//NONSGML v1.0//EN
CALSCALE:GREGORIAN
METHOD:PUBLISH
X-WR-CALNAME:City Gate Church
X-ORIGINAL-URL:http://citygatechurch.org.uk
X-WR-CALDESC:Events for City Gate Church
BEGIN:VEVENT
DTSTART;TZID=Europe/London:20211018T100000
DTEND;TZID=Europe/London:20211018T120000
DTSTAMP:20260419T183104
CREATED:20210311T105904Z
LAST-MODIFIED:20210914T093252Z
UID:10108-1634551200-1634558400@citygatechurch.org.uk
SUMMARY:Preston Village W.I
DESCRIPTION:
URL:http://citygatechurch.org.uk/events/preston-village-w-i-2-2021-10-18/2021-10-18/
CATEGORIES:@The-Dip
END:VEVENT
END:VCALENDAR