BEGIN:VCALENDAR
VERSION:2.0
PRODID:-//City Gate Church - ECPv4.6.24//NONSGML v1.0//EN
CALSCALE:GREGORIAN
METHOD:PUBLISH
X-WR-CALNAME:City Gate Church
X-ORIGINAL-URL:http://citygatechurch.org.uk
X-WR-CALDESC:Events for City Gate Church
BEGIN:VEVENT
DTSTART;TZID=Europe/London:20160508T140000
DTEND;TZID=Europe/London:20160514T220000
DTSTAMP:20260420T102716
CREATED:20160406T110939Z
LAST-MODIFIED:20160427T100320Z
UID:1385-1462716000-1463263200@citygatechurch.org.uk
SUMMARY:Prayer Week @The Dip
DESCRIPTION:
URL:http://citygatechurch.org.uk/events/prayer-week-the-dip/
LOCATION:@The-Dip\, 119D Hollingdean Terrace\, Brighton\, East Sussex\, BN1 7HB\, United Kingdom.
GEO:50.8419713;-0.1316886
X-APPLE-STRUCTURED-LOCATION;VALUE=URI;X-ADDRESS=@The-Dip 119D Hollingdean Terrace Brighton East Sussex BN1 7HB United Kingdom.;X-APPLE-RADIUS=500;X-TITLE=119D Hollingdean Terrace:geo:-0.1316886,50.8419713
CATEGORIES:@The-Dip,City Gate Church
END:VEVENT
END:VCALENDAR