BEGIN:VCALENDAR
VERSION:2.0
PRODID:-//City Gate Church - ECPv4.6.24//NONSGML v1.0//EN
CALSCALE:GREGORIAN
METHOD:PUBLISH
X-WR-CALNAME:City Gate Church
X-ORIGINAL-URL:http://citygatechurch.org.uk
X-WR-CALDESC:Events for City Gate Church
BEGIN:VEVENT
DTSTART;TZID=Europe/London:20210602T200000
DTEND;TZID=Europe/London:20210602T210000
DTSTAMP:20260421T025516
CREATED:20210202T140030Z
LAST-MODIFIED:20210202T140030Z
UID:9540-1622664000-1622667600@citygatechurch.org.uk
SUMMARY:Prayer @DIP
DESCRIPTION:
URL:http://citygatechurch.org.uk/events/prayer-dip-2/2021-06-02/
CATEGORIES:@The-Dip
END:VEVENT
END:VCALENDAR