BEGIN:VCALENDAR
VERSION:2.0
PRODID:-//City Gate Church - ECPv4.6.24//NONSGML v1.0//EN
CALSCALE:GREGORIAN
METHOD:PUBLISH
X-WR-CALNAME:City Gate Church
X-ORIGINAL-URL:http://citygatechurch.org.uk
X-WR-CALDESC:Events for City Gate Church
BEGIN:VEVENT
DTSTART;TZID=Europe/London:20170624T110000
DTEND;TZID=Europe/London:20170624T160000
DTSTAMP:20260419T151649
CREATED:20170620T114924Z
LAST-MODIFIED:20170620T115149Z
UID:2593-1498302000-1498320000@citygatechurch.org.uk
SUMMARY:OASIS.LIFE.RHYTHM.SPIRIT @Brighthelm Gardens
DESCRIPTION:You are invited to this all-age community event! 11am-4pm THIS SATURDAY \nThere will be an exciting range of activities which will include a drum circle with movement\, face-painting\, a Spirit Dream Booth with spiritual readings and dream interpretation\, children’s activities\, community art\, delicious refreshments and much more! \n 
URL:http://citygatechurch.org.uk/events/oasis-brighthelm-gardens-6/
LOCATION:The Brighthelm Centre\, North Road\, Brighton\, East Sussex\, BN1 1YD\, United Kingdom.
GEO:50.8258988;-0.1406705
X-APPLE-STRUCTURED-LOCATION;VALUE=URI;X-ADDRESS=The Brighthelm Centre North Road Brighton East Sussex BN1 1YD United Kingdom.;X-APPLE-RADIUS=500;X-TITLE=North Road:geo:-0.1406705,50.8258988
CATEGORIES:City Gate Church
ATTACH;FMTTYPE=image/jpeg:http://citygatechurch.org.uk/wp-content/uploads/2015/10/Locations_2.jpg
END:VEVENT
END:VCALENDAR