BEGIN:VCALENDAR
VERSION:2.0
PRODID:-//City Gate Church - ECPv4.6.24//NONSGML v1.0//EN
CALSCALE:GREGORIAN
METHOD:PUBLISH
X-WR-CALNAME:City Gate Church
X-ORIGINAL-URL:http://citygatechurch.org.uk
X-WR-CALDESC:Events for City Gate Church
BEGIN:VEVENT
DTSTART;TZID=Europe/London:20160604T110000
DTEND;TZID=Europe/London:20160604T160000
DTSTAMP:20260420T102714
CREATED:20160204T105058Z
LAST-MODIFIED:20160204T105058Z
UID:1063-1465038000-1465056000@citygatechurch.org.uk
SUMMARY:OASIS @Brighthelm Gardens
DESCRIPTION:You are invited to this all-age community event! \nThere will be an exciting range of activities which will include a drum circle with movement\, face-painting\, a Spirit Dream Booth with spiritual readings and dream interpretation\, children’s activities\, community art\, delicious refreshments and much more! 
URL:http://citygatechurch.org.uk/events/oasis-brighthelm-gardens-5/
LOCATION:The Brighthelm Centre\, North Road\, Brighton\, East Sussex\, BN1 1YD\, United Kingdom.
GEO:50.8258988;-0.1406705
X-APPLE-STRUCTURED-LOCATION;VALUE=URI;X-ADDRESS=The Brighthelm Centre North Road Brighton East Sussex BN1 1YD United Kingdom.;X-APPLE-RADIUS=500;X-TITLE=North Road:geo:-0.1406705,50.8258988
CATEGORIES:City Gate Church
ATTACH;FMTTYPE=image/jpeg:http://citygatechurch.org.uk/wp-content/uploads/2015/08/1907439_440724439403119_980751417523500220_n.jpg
END:VEVENT
END:VCALENDAR