BEGIN:VCALENDAR
VERSION:2.0
PRODID:-//City Gate Church - ECPv4.6.24//NONSGML v1.0//EN
CALSCALE:GREGORIAN
METHOD:PUBLISH
X-WR-CALNAME:City Gate Church
X-ORIGINAL-URL:http://citygatechurch.org.uk
X-WR-CALDESC:Events for City Gate Church
BEGIN:VEVENT
DTSTART;TZID=Europe/London:20220108T100000
DTEND;TZID=Europe/London:20220108T120000
DTSTAMP:20260419T214054
CREATED:20211220T184621Z
LAST-MODIFIED:20220107T155106Z
UID:11663-1641636000-1641643200@citygatechurch.org.uk
SUMMARY:New Year Prayer Walk
DESCRIPTION:Today we will be gathering altogether for a New Year Prayer walk. \nSimply bringing together two beautiful things: walking and praying. To start the year in step with one another\, physically and spiritually.  To appreciate God’s good gift in nature and let it speak to us. To pause to listen. To pray over our city. To seek God’s will for our future plans. \nMeeting at Pyecombe Church – Setting off at 10am to walk a circular route\, pausing to pray at intervals. \n*VERY MUDDY—WELLIES ESSENTIAL*  Please wrap up warm \nWe hope you can join us! \n  \n 
URL:http://citygatechurch.org.uk/events/new-year-prayer-walk/
LOCATION:Church Hill\, Pyecombe\, Brighton BN45 7FR
CATEGORIES:City Gate Church
ATTACH;FMTTYPE=image/jpeg:http://citygatechurch.org.uk/wp-content/uploads/2021/12/9765-man-arms-wide-in-praise-on-sunrise-birds-flyi.jpg
END:VEVENT
END:VCALENDAR