BEGIN:VCALENDAR
VERSION:2.0
PRODID:-//City Gate Church - ECPv4.6.24//NONSGML v1.0//EN
CALSCALE:GREGORIAN
METHOD:PUBLISH
X-WR-CALNAME:City Gate Church
X-ORIGINAL-URL:http://citygatechurch.org.uk
X-WR-CALDESC:Events for City Gate Church
BEGIN:VEVENT
DTSTART;TZID=Europe/London:20200214T084500
DTEND;TZID=Europe/London:20200214T121500
DTSTAMP:20260420T024807
CREATED:20190604T115854Z
LAST-MODIFIED:20190604T115854Z
UID:6829-1581669900-1581682500@citygatechurch.org.uk
SUMMARY:NCT Class
DESCRIPTION:4p/1764 
URL:http://citygatechurch.org.uk/events/nct-class-95/
CATEGORIES:@The-Dip
END:VEVENT
END:VCALENDAR