BEGIN:VCALENDAR
VERSION:2.0
PRODID:-//City Gate Church - ECPv4.6.24//NONSGML v1.0//EN
CALSCALE:GREGORIAN
METHOD:PUBLISH
X-WR-CALNAME:City Gate Church
X-ORIGINAL-URL:http://citygatechurch.org.uk
X-WR-CALDESC:Events for City Gate Church
BEGIN:VEVENT
DTSTART;TZID=Europe/London:20160924T100000
DTEND;TZID=Europe/London:20160925T100000
DTSTAMP:20260420T040522
CREATED:20160819T095716Z
LAST-MODIFIED:20160921T110038Z
UID:1659-1474711200-1474797600@citygatechurch.org.uk
SUMMARY:National Prayer Weekend - 24 hrs of Prayer @TheDip
DESCRIPTION:National Prayer Weekend – 24 hrs of prayer @TheDip \nSaturday 24th – Sunday 25th September \nCity Gate Church are participating in National Prayer Weekend.  All across the country churches are introducing their local communities to God through the power of prayer. \nWe will begin 24 hours of prayer with a time of Worship & Prayer from 10.00-11.00am @TheDip.  This will be followed by teas and coffees 11am-12pm\, where local residents are invited to join us for an hour of refreshments and prayer. \nOur Mission Groups will be offering prayer over on Sunday in Hollingbury and at Brighthelm Gardens in Brighton City Centre. \nDetails about Sundays prayer gatherings: \n\nMessy Church at Footsteps Nursery\, Lyminster: 4-6pm.  Come and enjoy an afternoon for the whole family including children’s crafts\, stories\, dinner and prayer.  ALL WELCOME!\n\n\nBrighthelm Mission Prayer\, Brighthelm Community Centre Gardens\, North Road\, Brighton\, 11am-12pm.  A time to pray for our local community – we will be setting up a prayer tent and inviting people to come and receive prayer.  Come and join us!\n\n  \n  \n  
URL:http://citygatechurch.org.uk/events/national-prayer-weekend/2016-09-24/
LOCATION:@The-Dip\, 119D Hollingdean Terrace\, Brighton\, East Sussex\, BN1 7HB\, United Kingdom.
GEO:50.8419713;-0.1316886
X-APPLE-STRUCTURED-LOCATION;VALUE=URI;X-ADDRESS=@The-Dip 119D Hollingdean Terrace Brighton East Sussex BN1 7HB United Kingdom.;X-APPLE-RADIUS=500;X-TITLE=119D Hollingdean Terrace:geo:-0.1316886,50.8419713
CATEGORIES:@The-Dip,City Gate Church
END:VEVENT
END:VCALENDAR