BEGIN:VCALENDAR
VERSION:2.0
PRODID:-//City Gate Church - ECPv4.6.24//NONSGML v1.0//EN
CALSCALE:GREGORIAN
METHOD:PUBLISH
X-WR-CALNAME:City Gate Church
X-ORIGINAL-URL:http://citygatechurch.org.uk
X-WR-CALDESC:Events for City Gate Church
BEGIN:VEVENT
DTSTART;TZID=Europe/London:20160131T160000
DTEND;TZID=Europe/London:20160131T180000
DTSTAMP:20260420T162052
CREATED:20160126T163334Z
LAST-MODIFIED:20160126T163334Z
UID:916-1454256000-1454263200@citygatechurch.org.uk
SUMMARY:Messy Church @Lyminster
DESCRIPTION:Hollingbury Messy Church is a fun two hours together\, with arts and crafts\, games\, songs and stories\, and a meal together at the end. All ages are welcome. \nTime and location: 16:00-18:00pm on Mission Sundays (last Sunday of each month)\, Lyminster Hall\, Lyminster Avenue\, Hollingbury \n. 
URL:http://citygatechurch.org.uk/events/messy-church-lyminster/2016-01-31/
LOCATION:Old Boat Corner\, The Gathering Place\, 1 Orchid View\, Stanmer Heights\, Brighton\, East Sussex\, BN1 8GP\, United Kingdom.
GEO:50.8579094;-0.1342743
X-APPLE-STRUCTURED-LOCATION;VALUE=URI;X-ADDRESS=Old Boat Corner The Gathering Place 1 Orchid View Stanmer Heights Brighton East Sussex BN1 8GP United Kingdom.;X-APPLE-RADIUS=500;X-TITLE=The Gathering Place\, 1 Orchid View\, Stanmer Heights:geo:-0.1342743,50.8579094
CATEGORIES:City Gate Church
END:VEVENT
END:VCALENDAR