BEGIN:VCALENDAR
VERSION:2.0
PRODID:-//City Gate Church - ECPv4.6.24//NONSGML v1.0//EN
CALSCALE:GREGORIAN
METHOD:PUBLISH
X-WR-CALNAME:City Gate Church
X-ORIGINAL-URL:http://citygatechurch.org.uk
X-WR-CALDESC:Events for City Gate Church
BEGIN:VEVENT
DTSTART;TZID=Europe/London:20170105T100000
DTEND;TZID=Europe/London:20170105T234500
DTSTAMP:20260419T225054
CREATED:20170106T135256Z
LAST-MODIFIED:20170208T111240Z
UID:2260-1483610400-1483659900@citygatechurch.org.uk
SUMMARY:Kindermusik
DESCRIPTION:Kindermusik: music and movement classes for early childhood. In every Kindermusik class\, you’re welcomed into a playful and nurturing environment where your child will have fun singing\, moving\, playing instruments and hearing stories – whilst simultaneously developing social skills\, pre-maths skills and a foundation for reading. Kindermusik classes for kids focus on whole-child development and build the skills children need to be successful in both school and life. And of course\, they provide the foundation for your child to develop a life-long love of music!
URL:http://citygatechurch.org.uk/events/kindermusik/2017-01-05/
LOCATION:@The-Dip\, 119D Hollingdean Terrace\, Brighton\, East Sussex\, BN1 7HB\, United Kingdom.
GEO:50.8419713;-0.1316886
X-APPLE-STRUCTURED-LOCATION;VALUE=URI;X-ADDRESS=@The-Dip 119D Hollingdean Terrace Brighton East Sussex BN1 7HB United Kingdom.;X-APPLE-RADIUS=500;X-TITLE=119D Hollingdean Terrace:geo:-0.1316886,50.8419713
CATEGORIES:@The-Dip
ATTACH;FMTTYPE=image/jpeg:http://citygatechurch.org.uk/wp-content/uploads/2016/06/Graphic-Follow-Me-to-Kindermusik-1-2560x1440-2560x1440.jpg
END:VEVENT
END:VCALENDAR