BEGIN:VCALENDAR
VERSION:2.0
PRODID:-//City Gate Church - ECPv4.6.24//NONSGML v1.0//EN
CALSCALE:GREGORIAN
METHOD:PUBLISH
X-WR-CALNAME:City Gate Church
X-ORIGINAL-URL:http://citygatechurch.org.uk
X-WR-CALDESC:Events for City Gate Church
BEGIN:VEVENT
DTSTART;TZID=Europe/London:20160325T100000
DTEND;TZID=Europe/London:20160325T110000
DTSTAMP:20260420T132941
CREATED:20160322T161141Z
LAST-MODIFIED:20160322T161141Z
UID:1287-1458900000-1458903600@citygatechurch.org.uk
SUMMARY:GOOD FRIDAY Taize @TheDip
DESCRIPTION:Taize is a monastery in France existing since the 1940s with brothers from Catholic and Protestant traditions\, and some small communities of brothers living amongst the poor in Brazil\, Bangladesh\, Korea\, Senegal\, and Kenya. Their style of worship is contemplative always with a time of silence\, and the beauty of simple four part harmony chants repeated many times. We follow this pattern on Mondays sharing songs\, silence\, readings\, prayers and communion with each other every week. If you want to try something mediational and reflective then do come along! \nCome this Good Friday for our Easter meeting.  Refreshments and hot cross buns will be served following the service.  Please arrive for a prompt 10am start. 
URL:http://citygatechurch.org.uk/events/good-friday-taize-thedip/
LOCATION:@The-Dip\, 119D Hollingdean Terrace\, Brighton\, East Sussex\, BN1 7HB\, United Kingdom.
GEO:50.8419713;-0.1316886
X-APPLE-STRUCTURED-LOCATION;VALUE=URI;X-ADDRESS=@The-Dip 119D Hollingdean Terrace Brighton East Sussex BN1 7HB United Kingdom.;X-APPLE-RADIUS=500;X-TITLE=119D Hollingdean Terrace:geo:-0.1316886,50.8419713
CATEGORIES:@The-Dip,City Gate Church
ATTACH;FMTTYPE=image/jpeg:http://citygatechurch.org.uk/wp-content/uploads/2015/08/Mission-Groups_@TheDip_3_.jpg
END:VEVENT
END:VCALENDAR