BEGIN:VCALENDAR
VERSION:2.0
PRODID:-//City Gate Church - ECPv4.6.24//NONSGML v1.0//EN
CALSCALE:GREGORIAN
METHOD:PUBLISH
X-WR-CALNAME:City Gate Church
X-ORIGINAL-URL:http://citygatechurch.org.uk
X-WR-CALDESC:Events for City Gate Church
BEGIN:VEVENT
DTSTART;TZID=Europe/London:20160113T200000
DTEND;TZID=Europe/London:20160113T220000
DTSTAMP:20260420T161803
CREATED:20160113T123718Z
LAST-MODIFIED:20160126T170730Z
UID:742-1452715200-1452722400@citygatechurch.org.uk
SUMMARY:ENCOUNTER Prayer @The Dip
DESCRIPTION:This is a time to come\, worship\, wait in the presence of God\, be refreshed and ministered to. It has a meditative focus\, using prayer and meditation on scripture to lead us into the presence of God. \nAll Welcome 
URL:http://citygatechurch.org.uk/events/encounter-prayer-the-dip/
LOCATION:@The-Dip\, 119D Hollingdean Terrace\, Brighton\, East Sussex\, BN1 7HB\, United Kingdom.
GEO:50.8419713;-0.1316886
X-APPLE-STRUCTURED-LOCATION;VALUE=URI;X-ADDRESS=@The-Dip 119D Hollingdean Terrace Brighton East Sussex BN1 7HB United Kingdom.;X-APPLE-RADIUS=500;X-TITLE=119D Hollingdean Terrace:geo:-0.1316886,50.8419713
CATEGORIES:@The-Dip,City Gate Church
ORGANIZER;CN="City%20Gate%20Church":MAILTO:office@citygatechurch.org.uk
END:VEVENT
END:VCALENDAR