BEGIN:VCALENDAR
VERSION:2.0
PRODID:-//City Gate Church - ECPv4.6.24//NONSGML v1.0//EN
CALSCALE:GREGORIAN
METHOD:PUBLISH
X-WR-CALNAME:City Gate Church
X-ORIGINAL-URL:http://citygatechurch.org.uk
X-WR-CALDESC:Events for City Gate Church
BEGIN:VEVENT
DTSTART;TZID=Europe/London:20191204T093000
DTEND;TZID=Europe/London:20191204T120000
DTSTAMP:20260419T233446
CREATED:20190919T101302Z
LAST-MODIFIED:20190919T101302Z
UID:7118-1575451800-1575460800@citygatechurch.org.uk
SUMMARY:EB R e l e a s e
DESCRIPTION:
URL:http://citygatechurch.org.uk/events/eb-r-e-l-e-a-s-e/2019-12-04/
LOCATION:@The-Dip\, 119D Hollingdean Terrace\, Brighton\, East Sussex\, BN1 7HB\, United Kingdom.
GEO:50.8419713;-0.1316886
X-APPLE-STRUCTURED-LOCATION;VALUE=URI;X-ADDRESS=@The-Dip 119D Hollingdean Terrace Brighton East Sussex BN1 7HB United Kingdom.;X-APPLE-RADIUS=500;X-TITLE=119D Hollingdean Terrace:geo:-0.1316886,50.8419713
CATEGORIES:@The-Dip,Hidden
END:VEVENT
END:VCALENDAR