BEGIN:VCALENDAR
VERSION:2.0
PRODID:-//City Gate Church - ECPv4.6.24//NONSGML v1.0//EN
CALSCALE:GREGORIAN
METHOD:PUBLISH
X-WR-CALNAME:City Gate Church
X-ORIGINAL-URL:http://citygatechurch.org.uk
X-WR-CALDESC:Events for City Gate Church
BEGIN:VEVENT
DTSTART;TZID=Europe/London:20160325T150000
DTEND;TZID=Europe/London:20160325T163000
DTSTAMP:20260420T145117
CREATED:20160322T163125Z
LAST-MODIFIED:20160322T163125Z
UID:1288-1458918000-1458923400@citygatechurch.org.uk
SUMMARY:Easter MESSY CHURCH @Lyminster!
DESCRIPTION:
URL:http://citygatechurch.org.uk/events/easter-messy-church-lyminster/
LOCATION:Old Boat Corner\, The Gathering Place\, 1 Orchid View\, Stanmer Heights\, Brighton\, East Sussex\, BN1 8GP\, United Kingdom.
GEO:50.8579094;-0.1342743
X-APPLE-STRUCTURED-LOCATION;VALUE=URI;X-ADDRESS=Old Boat Corner The Gathering Place 1 Orchid View Stanmer Heights Brighton East Sussex BN1 8GP United Kingdom.;X-APPLE-RADIUS=500;X-TITLE=The Gathering Place\, 1 Orchid View\, Stanmer Heights:geo:-0.1342743,50.8579094
CATEGORIES:City Gate Church
ATTACH;FMTTYPE=image/jpeg:http://citygatechurch.org.uk/wp-content/uploads/2016/03/file-page1.jpg
END:VEVENT
END:VCALENDAR