BEGIN:VCALENDAR
VERSION:2.0
PRODID:-//City Gate Church - ECPv4.6.24//NONSGML v1.0//EN
CALSCALE:GREGORIAN
METHOD:PUBLISH
X-WR-CALNAME:City Gate Church
X-ORIGINAL-URL:http://citygatechurch.org.uk
X-WR-CALDESC:Events for City Gate Church
BEGIN:VEVENT
DTSTART;TZID=Europe/London:20210919T100000
DTEND;TZID=Europe/London:20210919T110000
DTSTAMP:20260420T211610
CREATED:20210914T115814Z
LAST-MODIFIED:20210917T101521Z
UID:11318-1632045600-1632049200@citygatechurch.org.uk
SUMMARY:Creative Sunday - Breakfast & Communion on the Beach!
DESCRIPTION:On the third Sunday of the month\, we have ‘Creative Sundays’.  The aim is to create space to encounter God\, without the usual structures of Sunday meetings – church without walls/ screen! \nWe will have a common theme and some prompts on how to engage. You are invited to participate in the activity on your own\, outdoors with one other person\, in your household/ bubble/ join with others by WhatsApp video. It would be lovely if the children and young people were helped to engage as well. \nWe hope that in making space to lean into God differently\, our imaginations may be sparked to think creatively and come up with inspiration around how church might look different as we emerge from the pandemic. \nWe urge you to make the most of this time to seek God\, using the ideas provided\, and also you own ideas! \n  \nThis Sunday 19th September  we are meeting on the beach by Brighton Marina at 10am for Holy Communion (details below). \nSunday 19th– 10am \nBreakfast and Communion on the beach. \nBlack Rock beach site (dog-friendly!) to the right of the Marina\, facing the sea (free parking in the Marina). If you get to the naturist beach you’ve gone too far! \nWe encourage you to car share this Sunday or take the bus (no 7 or 23) to Marina Village. \nAllow time to walk from the car park to the beach. \nBring chairs or blanket to sit on. \n \nThis September is the Season of Creation\, or Creationtide in the annual church calendar running from the first of September to the fourth of October\, a time dedicated to God as Creator and Sustainer of all life. It’s a time where churches and congregations are called to pay special attention to the responsibility of humanity for the Earth and for all that lives upon it\, and to pray for our world. \nIt is also a time to engage with the Great Big Green Week running from 18 – 26 of September https://greatbiggreenweek.com \n  \nWe invite you to bring breakfast to share\, and to see whether you can be intentional in considering at least one of the LOAF principles in your meal: \nLocally produced\,\nOrganically grown\,\nAnimal friendly\,\nFairly traded. \nBread and wine for communion will be provided. Being by the sea\, we will pause to worship with \nPsalm 96: “Let the heavens rejoice\, let the earth be glad; let the sea resound\, and all that is in it.” \n  
URL:http://citygatechurch.org.uk/events/creative-sundays/
LOCATION:Beach by Brighton Marina
CATEGORIES:City Gate Church
ATTACH;FMTTYPE=image/jpeg:http://citygatechurch.org.uk/wp-content/uploads/2021/09/Communion.jpg
END:VEVENT
END:VCALENDAR