BEGIN:VCALENDAR
VERSION:2.0
PRODID:-//City Gate Church - ECPv4.6.24//NONSGML v1.0//EN
CALSCALE:GREGORIAN
METHOD:PUBLISH
X-WR-CALNAME:City Gate Church
X-ORIGINAL-URL:http://citygatechurch.org.uk
X-WR-CALDESC:Events for City Gate Church
BEGIN:VEVENT
DTSTART;TZID=Europe/London:20211219T153000
DTEND;TZID=Europe/London:20211219T173000
DTSTAMP:20260419T231315
CREATED:20210914T115814Z
LAST-MODIFIED:20211215T164910Z
UID:11322-1639927800-1639935000@citygatechurch.org.uk
SUMMARY:'Candlelit Christmas Celebration' in Brighthelm Gardens
DESCRIPTION:\nYou are warmly invited to join us THIS  Sunday 19th December for our ‘Candlelit Christmas Celebration‘ in Brighthelm Gardens at 4pm\, followed by mince pies and mulled wine in the cafe.\n\n\n–\n\n\n\n\nWe will be starting our Christingle and lantern making at 3.30pm in the gated garden\, with movement and flags before the service\, so do come early if you’d like to join in the fun\, before our family service!\n\n–\n\n\n     \n\n–\n\n\nWe hope you can join us and look forward to seeing you there.\n\n\n–\n\n      \n  
URL:http://citygatechurch.org.uk/events/creative-sundays-2021-12-19/
CATEGORIES:City Gate Church
ATTACH;FMTTYPE=image/jpeg:http://citygatechurch.org.uk/wp-content/uploads/2021/09/Christingle.jpg
END:VEVENT
END:VCALENDAR