BEGIN:VCALENDAR
VERSION:2.0
PRODID:-//City Gate Church - ECPv4.6.24//NONSGML v1.0//EN
CALSCALE:GREGORIAN
METHOD:PUBLISH
X-WR-CALNAME:City Gate Church
X-ORIGINAL-URL:http://citygatechurch.org.uk
X-WR-CALDESC:Events for City Gate Church
BEGIN:VEVENT
DTSTART;TZID=Europe/London:20230730T100000
DTEND;TZID=Europe/London:20230730T130000
DTSTAMP:20260421T082828
CREATED:20230720T142048Z
LAST-MODIFIED:20230720T142048Z
UID:12890-1690711200-1690722000@citygatechurch.org.uk
SUMMARY:Creative Sunday - Pilgrim Walk
DESCRIPTION:This Sunday is a ‘Creative Sunday’ and we will be undertaking a Pilgrim walk along the Cuckmere Pilgrim Path. We will start at 10am at the Barley Mow Pub on the A 27 past Lewes.  \nWe will aim to do half the route\,  walking to Alciston\, Berwick\, Alfriston and Wilmington where we will stop for lunch … aiming for about 1pm for those who would want to join us there.  \n  
URL:http://citygatechurch.org.uk/events/creative-sunday-pilgrim-walk/
LOCATION:Barley Mow Pub\, Selmeston\, near Lewes
CATEGORIES:Church Members,City Gate Church,City Gate Community,Main Events,Youth/Children
END:VEVENT
END:VCALENDAR