BEGIN:VCALENDAR
VERSION:2.0
PRODID:-//City Gate Church - ECPv4.6.24//NONSGML v1.0//EN
CALSCALE:GREGORIAN
METHOD:PUBLISH
X-WR-CALNAME:City Gate Church
X-ORIGINAL-URL:http://citygatechurch.org.uk
X-WR-CALDESC:Events for City Gate Church
BEGIN:VEVENT
DTSTART;TZID=Europe/London:20161224T170000
DTEND;TZID=Europe/London:20161224T180000
DTSTAMP:20260420T010925
CREATED:20161213T171323Z
LAST-MODIFIED:20161213T171510Z
UID:2218-1482598800-1482602400@citygatechurch.org.uk
SUMMARY:Christmas Eve Carols at Lyminster Hall
DESCRIPTION:You are warmly invited to our Christmas Eve Carol Service at Lyminster Hall (Footsteps Nursery) on Saturday 24th December\, 5-6pm.  All welcome! \n  \n  
URL:http://citygatechurch.org.uk/events/christmas-carols-at-lyminster-hall/
LOCATION:Old Boat Corner\, The Gathering Place\, 1 Orchid View\, Stanmer Heights\, Brighton\, East Sussex\, BN1 8GP\, United Kingdom.
GEO:50.8579094;-0.1342743
X-APPLE-STRUCTURED-LOCATION;VALUE=URI;X-ADDRESS=Old Boat Corner The Gathering Place 1 Orchid View Stanmer Heights Brighton East Sussex BN1 8GP United Kingdom.;X-APPLE-RADIUS=500;X-TITLE=The Gathering Place\, 1 Orchid View\, Stanmer Heights:geo:-0.1342743,50.8579094
CATEGORIES:City Gate Church
ATTACH;FMTTYPE=image/jpeg:http://citygatechurch.org.uk/wp-content/uploads/2016/12/15391033_10211177418449219_2419892437025809051_n-e1481649154971.jpg
END:VEVENT
END:VCALENDAR