BEGIN:VCALENDAR
VERSION:2.0
PRODID:-//City Gate Church - ECPv4.6.24//NONSGML v1.0//EN
CALSCALE:GREGORIAN
METHOD:PUBLISH
X-WR-CALNAME:City Gate Church
X-ORIGINAL-URL:http://citygatechurch.org.uk
X-WR-CALDESC:Events for City Gate Church
BEGIN:VEVENT
DTSTART;TZID=Europe/London:20191101T090000
DTEND;TZID=Europe/London:20191101T120000
DTSTAMP:20260421T131818
CREATED:20191030T094040Z
LAST-MODIFIED:20191030T094040Z
UID:7247-1572598800-1572609600@citygatechurch.org.uk
SUMMARY:CGCP meeting
DESCRIPTION:
URL:http://citygatechurch.org.uk/events/cgcp-meeting-2/
CATEGORIES:@The-Dip
END:VEVENT
END:VCALENDAR