BEGIN:VCALENDAR
VERSION:2.0
PRODID:-//City Gate Church - ECPv4.6.24//NONSGML v1.0//EN
CALSCALE:GREGORIAN
METHOD:PUBLISH
X-WR-CALNAME:City Gate Church
X-ORIGINAL-URL:http://citygatechurch.org.uk
X-WR-CALDESC:Events for City Gate Church
BEGIN:VEVENT
DTSTART;TZID=Europe/London:20211017T093000
DTEND;TZID=Europe/London:20211017T123000
DTSTAMP:20260419T151810
CREATED:20211005T092331Z
LAST-MODIFIED:20211005T092331Z
UID:11486-1634463000-1634473800@citygatechurch.org.uk
SUMMARY:CGC Morning Meeting
DESCRIPTION:
URL:http://citygatechurch.org.uk/events/cgc-morning-meeting/
CATEGORIES:@The-Dip
END:VEVENT
END:VCALENDAR