BEGIN:VCALENDAR
VERSION:2.0
PRODID:-//City Gate Church - ECPv4.6.24//NONSGML v1.0//EN
CALSCALE:GREGORIAN
METHOD:PUBLISH
X-WR-CALNAME:City Gate Church
X-ORIGINAL-URL:http://citygatechurch.org.uk
X-WR-CALDESC:Events for City Gate Church
BEGIN:VEVENT
DTSTART;TZID=Europe/London:20210930T093000
DTEND;TZID=Europe/London:20210930T123000
DTSTAMP:20260420T215402
CREATED:20210730T125727Z
LAST-MODIFIED:20210730T125727Z
UID:10805-1632994200-1633005000@citygatechurch.org.uk
SUMMARY:Brightstart
DESCRIPTION:
URL:http://citygatechurch.org.uk/events/brightstart-5/2021-09-30/
CATEGORIES:@The-Dip,Hidden
END:VEVENT
END:VCALENDAR