BEGIN:VCALENDAR
VERSION:2.0
PRODID:-//City Gate Church - ECPv4.6.24//NONSGML v1.0//EN
CALSCALE:GREGORIAN
METHOD:PUBLISH
X-WR-CALNAME:City Gate Church
X-ORIGINAL-URL:http://citygatechurch.org.uk
X-WR-CALDESC:Events for City Gate Church
BEGIN:VEVENT
DTSTART;TZID=Europe/London:20200929T090000
DTEND;TZID=Europe/London:20200929T120000
DTSTAMP:20260419T134551
CREATED:20200925T131921Z
LAST-MODIFIED:20200925T131921Z
UID:9007-1601370000-1601380800@citygatechurch.org.uk
SUMMARY:Bright Start
DESCRIPTION:
URL:http://citygatechurch.org.uk/events/bright-start/2020-09-29/
CATEGORIES:@The-Dip,Hidden
END:VEVENT
END:VCALENDAR